BEGIN:VCALENDAR
VERSION:2.0
PRODID:spatie/icalendar-generator
DESCRIPTION:Events from Progressive Jiu-Jitsu of Idaho
X-WR-CALDESC:Events from Progressive Jiu-Jitsu of Idaho
REFRESH-INTERVAL;VALUE=DURATION:PT1440M
X-PUBLISHED-TTL:PT1440M
BEGIN:VTIMEZONE
TZID:Etc/GMT+0
BEGIN:STANDARD
DTSTART:20250712T170000Z
TZOFFSETFROM:+0000
TZOFFSETTO:+0000
END:STANDARD
END:VTIMEZONE
BEGIN:VTIMEZONE
TZID:UTC
BEGIN:STANDARD
DTSTART:20250727T155322Z
TZOFFSETFROM:+0000
TZOFFSETTO:+0000
END:STANDARD
END:VTIMEZONE
BEGIN:VEVENT
UID:2247-4
DTSTAMP:20260423T155322Z
SUMMARY:Ladies' Kickboxing (W)
LOCATION:Main Location 160 Johnson Ave  Orofino ID 83544
ORGANIZER;CN=bethabritz2:MAILTO:bethprogressive@gmail.com
RRULE:FREQ=WEEKLY;COUNT=0
DTSTART;TZID=Etc/GMT+0:20260408T170000
DTEND;TZID=Etc/GMT+0:20260408T180000
X-ALT-DESC;FMTTYPE=TEXT/HTML:
CATEGORIES:Ladies\' Class
URL;VALUE=URI:https://www.idahojj.com/mc-events/ladies-kickboxing-w?mc_id=2
 247
METHOD:PUBLISH
END:VEVENT
END:VCALENDAR