BEGIN:VCALENDAR
VERSION:2.0
PRODID:spatie/icalendar-generator
DESCRIPTION:Events from Progressive Jiu-Jitsu of Idaho
X-WR-CALDESC:Events from Progressive Jiu-Jitsu of Idaho
REFRESH-INTERVAL;VALUE=DURATION:PT1440M
X-PUBLISHED-TTL:PT1440M
BEGIN:VTIMEZONE
TZID:Etc/GMT+0
BEGIN:STANDARD
DTSTART:20250712T180000Z
TZOFFSETFROM:+0000
TZOFFSETTO:+0000
END:STANDARD
END:VTIMEZONE
BEGIN:VTIMEZONE
TZID:UTC
BEGIN:STANDARD
DTSTART:20250727T155453Z
TZOFFSETFROM:+0000
TZOFFSETTO:+0000
END:STANDARD
END:VTIMEZONE
BEGIN:VEVENT
UID:1042-8
DTSTAMP:20260423T155453Z
SUMMARY:Pierce Kids BJJ (W)
LOCATION:Contact for Location Contact for Location  Pierce Idaho
ORGANIZER;CN=bethabritz2:MAILTO:bethprogressive@gmail.com
RRULE:FREQ=WEEKLY;COUNT=0
DTSTART;TZID=Etc/GMT+0:20260408T180000
DTEND;TZID=Etc/GMT+0:20260408T190000
X-ALT-DESC;FMTTYPE=TEXT/HTML:
CATEGORIES:Youth Class
URL;VALUE=URI:https://www.idahojj.com/mc-events/pierce-kids-bjj-w?mc_id=104
 2
METHOD:PUBLISH
END:VEVENT
END:VCALENDAR